BEGIN:VCALENDAR
VERSION:2.0
PRODID:-//Les Calcatoggios - ECPv6.15.20//NONSGML v1.0//EN
CALSCALE:GREGORIAN
METHOD:PUBLISH
X-ORIGINAL-URL:https://les-calcatoggios.com
X-WR-CALDESC:Veranstaltungen für Les Calcatoggios
REFRESH-INTERVAL;VALUE=DURATION:PT1H
X-Robots-Tag:noindex
X-PUBLISHED-TTL:PT1H
BEGIN:VTIMEZONE
TZID:Europe/Berlin
BEGIN:DAYLIGHT
TZOFFSETFROM:+0100
TZOFFSETTO:+0200
TZNAME:CEST
DTSTART:20250330T010000
END:DAYLIGHT
BEGIN:STANDARD
TZOFFSETFROM:+0200
TZOFFSETTO:+0100
TZNAME:CET
DTSTART:20251026T010000
END:STANDARD
BEGIN:DAYLIGHT
TZOFFSETFROM:+0100
TZOFFSETTO:+0200
TZNAME:CEST
DTSTART:20260329T010000
END:DAYLIGHT
BEGIN:STANDARD
TZOFFSETFROM:+0200
TZOFFSETTO:+0100
TZNAME:CET
DTSTART:20261025T010000
END:STANDARD
BEGIN:DAYLIGHT
TZOFFSETFROM:+0100
TZOFFSETTO:+0200
TZNAME:CEST
DTSTART:20270328T010000
END:DAYLIGHT
BEGIN:STANDARD
TZOFFSETFROM:+0200
TZOFFSETTO:+0100
TZNAME:CET
DTSTART:20271031T010000
END:STANDARD
END:VTIMEZONE
BEGIN:VEVENT
DTSTART;VALUE=DATE:20260821
DTEND;VALUE=DATE:20260822
DTSTAMP:20260426T061602
CREATED:20260412T194032Z
LAST-MODIFIED:20260412T194032Z
UID:1749-1787270400-1787356799@les-calcatoggios.com
SUMMARY:Casino/ Datscha - Potsdam
DESCRIPTION:Stay tuned for updates.
URL:https://les-calcatoggios.com/event/casino-datscha-potsdam/
CATEGORIES:Konzert
ATTACH;FMTTYPE=image/jpeg:https://les-calcatoggios.com/wp-content/uploads/2024/11/Les-Calcatoggios-72-1-scaled.jpg
END:VEVENT
BEGIN:VEVENT
DTSTART;VALUE=DATE:20260822
DTEND;VALUE=DATE:20260823
DTSTAMP:20260426T061602
CREATED:20250713T192105Z
LAST-MODIFIED:20260413T070824Z
UID:1590-1787356800-1787443199@les-calcatoggios.com
SUMMARY:Summerstomp Ska-Mania 2026
DESCRIPTION:Stay tuned for updates.
URL:https://les-calcatoggios.com/event/summerstomp-ska-mania-2026/
LOCATION:Berlin-Festivalgarten Café Köpenick\, Seelenbinderstraße 54\, Berlin\, 12555\, Deutschland
CATEGORIES:Festival
ATTACH;FMTTYPE=image/jpeg:https://les-calcatoggios.com/wp-content/uploads/2024/11/Les-Calcatoggios-09-scaled.jpg
END:VEVENT
BEGIN:VEVENT
DTSTART;VALUE=DATE:20260826
DTEND;VALUE=DATE:20260827
DTSTAMP:20260426T061602
CREATED:20260412T194240Z
LAST-MODIFIED:20260412T194240Z
UID:1751-1787702400-1787788799@les-calcatoggios.com
SUMMARY:Fasanerie Lübars - Berlin
DESCRIPTION:https://www.alte-fasanerie-luebars.de/
URL:https://les-calcatoggios.com/event/fasanerie-luebars-berlin/
CATEGORIES:Konzert
ATTACH;FMTTYPE=image/jpeg:https://les-calcatoggios.com/wp-content/uploads/2024/11/Les-Calcatoggios-18-scaled.jpg
END:VEVENT
END:VCALENDAR