BEGIN:VCALENDAR
VERSION:2.0
PRODID:-//Les Calcatoggios - ECPv6.15.20//NONSGML v1.0//EN
CALSCALE:GREGORIAN
METHOD:PUBLISH
X-ORIGINAL-URL:https://les-calcatoggios.com
X-WR-CALDESC:Veranstaltungen für Les Calcatoggios
REFRESH-INTERVAL;VALUE=DURATION:PT1H
X-Robots-Tag:noindex
X-PUBLISHED-TTL:PT1H
BEGIN:VTIMEZONE
TZID:Europe/Berlin
BEGIN:DAYLIGHT
TZOFFSETFROM:+0100
TZOFFSETTO:+0200
TZNAME:CEST
DTSTART:20250330T010000
END:DAYLIGHT
BEGIN:STANDARD
TZOFFSETFROM:+0200
TZOFFSETTO:+0100
TZNAME:CET
DTSTART:20251026T010000
END:STANDARD
BEGIN:DAYLIGHT
TZOFFSETFROM:+0100
TZOFFSETTO:+0200
TZNAME:CEST
DTSTART:20260329T010000
END:DAYLIGHT
BEGIN:STANDARD
TZOFFSETFROM:+0200
TZOFFSETTO:+0100
TZNAME:CET
DTSTART:20261025T010000
END:STANDARD
BEGIN:DAYLIGHT
TZOFFSETFROM:+0100
TZOFFSETTO:+0200
TZNAME:CEST
DTSTART:20270328T010000
END:DAYLIGHT
BEGIN:STANDARD
TZOFFSETFROM:+0200
TZOFFSETTO:+0100
TZNAME:CET
DTSTART:20271031T010000
END:STANDARD
END:VTIMEZONE
BEGIN:VEVENT
DTSTART;VALUE=DATE:20260710
DTEND;VALUE=DATE:20260711
DTSTAMP:20260426T042129
CREATED:20260412T192719Z
LAST-MODIFIED:20260412T192719Z
UID:1739-1783641600-1783727999@les-calcatoggios.com
SUMMARY:Transit Festival - 2026
DESCRIPTION:Stay tuned for updates. \nimage source \n  \n 
URL:https://les-calcatoggios.com/event/transit-festival-2026/
LOCATION:Burg Klempenow\, Burg Klempenow\, 17089 Breest\, Deutschland
CATEGORIES:Festival
ATTACH;FMTTYPE=image/jpeg:https://les-calcatoggios.com/wp-content/uploads/2026/04/2026_Transit-Festival.jpg
END:VEVENT
BEGIN:VEVENT
DTSTART;VALUE=DATE:20260724
DTEND;VALUE=DATE:20260725
DTSTAMP:20260426T042129
CREATED:20260412T193502Z
LAST-MODIFIED:20260412T193922Z
UID:1745-1784851200-1784937599@les-calcatoggios.com
SUMMARY:Alex Strandbar - Heringsdorf (Usedom)
DESCRIPTION:Stay tuned for updates.
URL:https://les-calcatoggios.com/event/alex-strandbar-heringsdorf-usedom/
LOCATION:Alex Strandbar Heringsdorf\, Alex Strandbar\, Liehrstraße 11\, 17424 Heringsdorf
CATEGORIES:Konzert
ATTACH;FMTTYPE=image/jpeg:https://les-calcatoggios.com/wp-content/uploads/2024/02/2024_Heringsdorf.jpg
END:VEVENT
BEGIN:VEVENT
DTSTART;VALUE=DATE:20260725
DTEND;VALUE=DATE:20260727
DTSTAMP:20260426T042129
CREATED:20260412T193632Z
LAST-MODIFIED:20260412T193820Z
UID:1747-1784937600-1785110399@les-calcatoggios.com
SUMMARY:Ostsee-Konzerte
DESCRIPTION:Stay tuned for updates.
URL:https://les-calcatoggios.com/event/ostsee-konzerte/
CATEGORIES:Konzert
ATTACH;FMTTYPE=image/jpeg:https://les-calcatoggios.com/wp-content/uploads/2024/11/Les-Calcatoggios-22-1.jpg
END:VEVENT
END:VCALENDAR