BEGIN:VCALENDAR
VERSION:2.0
PRODID:-//Les Calcatoggios - ECPv6.15.20//NONSGML v1.0//EN
CALSCALE:GREGORIAN
METHOD:PUBLISH
X-WR-CALNAME:Les Calcatoggios
X-ORIGINAL-URL:https://les-calcatoggios.com
X-WR-CALDESC:Veranstaltungen für Les Calcatoggios
REFRESH-INTERVAL;VALUE=DURATION:PT1H
X-Robots-Tag:noindex
X-PUBLISHED-TTL:PT1H
BEGIN:VTIMEZONE
TZID:Europe/Berlin
BEGIN:DAYLIGHT
TZOFFSETFROM:+0100
TZOFFSETTO:+0200
TZNAME:CEST
DTSTART:20250330T010000
END:DAYLIGHT
BEGIN:STANDARD
TZOFFSETFROM:+0200
TZOFFSETTO:+0100
TZNAME:CET
DTSTART:20251026T010000
END:STANDARD
BEGIN:DAYLIGHT
TZOFFSETFROM:+0100
TZOFFSETTO:+0200
TZNAME:CEST
DTSTART:20260329T010000
END:DAYLIGHT
BEGIN:STANDARD
TZOFFSETFROM:+0200
TZOFFSETTO:+0100
TZNAME:CET
DTSTART:20261025T010000
END:STANDARD
BEGIN:DAYLIGHT
TZOFFSETFROM:+0100
TZOFFSETTO:+0200
TZNAME:CEST
DTSTART:20270328T010000
END:DAYLIGHT
BEGIN:STANDARD
TZOFFSETFROM:+0200
TZOFFSETTO:+0100
TZNAME:CET
DTSTART:20271031T010000
END:STANDARD
END:VTIMEZONE
BEGIN:VEVENT
DTSTART;VALUE=DATE:20260606
DTEND;VALUE=DATE:20260607
DTSTAMP:20260426T023627
CREATED:20260412T190921Z
LAST-MODIFIED:20260412T191038Z
UID:1732-1780704000-1780790399@les-calcatoggios.com
SUMMARY:Fest für Demokratie und Toleranz 2026
DESCRIPTION:image source
URL:https://les-calcatoggios.com/event/fest-fuer-demokratie-und-toleranz-2026/
LOCATION:Berlin-Schöneweide\, Berlin-Schöneweide\, Deutschland
ATTACH;FMTTYPE=image/avif:https://les-calcatoggios.com/wp-content/uploads/2026/04/2026_Fest-fuer-Demokratie-und-Toleranz.avif
END:VEVENT
BEGIN:VEVENT
DTSTART;VALUE=DATE:20260620
DTEND;VALUE=DATE:20260621
DTSTAMP:20260426T023627
CREATED:20260412T192321Z
LAST-MODIFIED:20260412T192321Z
UID:1736-1781913600-1781999999@les-calcatoggios.com
SUMMARY:Augusten - Krachtenfestival
DESCRIPTION:Stay tuned for updates.
URL:https://les-calcatoggios.com/event/augusten-krachtenfestival/
CATEGORIES:Festival
ATTACH;FMTTYPE=image/jpeg:https://les-calcatoggios.com/wp-content/uploads/2026/04/2D4A4068-scaled.jpg
END:VEVENT
BEGIN:VEVENT
DTSTART;VALUE=DATE:20260621
DTEND;VALUE=DATE:20260622
DTSTAMP:20260426T023627
CREATED:20250210T200427Z
LAST-MODIFIED:20250214T075440Z
UID:1511-1782000000-1782086399@les-calcatoggios.com
SUMMARY:Fête da la Musique 2026 Berlin - #FETE26
DESCRIPTION:Stay tuned for updates.
URL:https://les-calcatoggios.com/event/fete26/
LOCATION:Centre Français de Berlin – deutsch-französisches Kulturzentrum gGmbH\, Centre Français de Berlin - deutsch-französisches Kulturzentrum gGmbH\, Müllerstraße 74\, 13349 Berlin\, Germany
CATEGORIES:Konzert
ATTACH;FMTTYPE=image/jpeg:https://les-calcatoggios.com/wp-content/uploads/2024/11/Les-Calcatoggios-55-1-scaled.jpg
END:VEVENT
BEGIN:VEVENT
DTSTART;VALUE=DATE:20260627
DTEND;VALUE=DATE:20260628
DTSTAMP:20260426T023627
CREATED:20260412T193039Z
LAST-MODIFIED:20260412T193039Z
UID:1742-1782518400-1782604799@les-calcatoggios.com
SUMMARY:Privatparty
DESCRIPTION:
URL:https://les-calcatoggios.com/event/privatparty-3/
CATEGORIES:Privat-Konzert
ATTACH;FMTTYPE=image/jpeg:https://les-calcatoggios.com/wp-content/uploads/2026/04/2D4A4380-scaled.jpg
END:VEVENT
END:VCALENDAR